Workbook

Sheet 調査票
A1: 多面的機能支払交付金の効果等に関するアンケート
V2: ■
A3: ★ | B3: 各設問の該当する項目の桃色箇所にチェック“■”を付けてください。 | V3: □
B4: また、必要に応じて、薄い青で着色した項目に数字や文字を記入してください。
A5: ★ | B5: 「活動組織」とは「活動組織」と「広域活動組織」の両者を指します。
A7: 都道府県名： | D7: 千葉県
A9: 市町村名： | D9: ○○市町村
A11: 活動組織名： | D11: ○○活動組織
A14: １ 地域資源の適切な保全管理
A16: Ｑ１ | B16: ◆遊休農地の発生防止
B17: もし、本交付金に取り組んでいなければ、活動の対象農用地内に遊休農地が発生又は面積が拡大していたと思いますか。 該当するもの１つにチェック“■”を付けてください。
C21: □ | D21: １．かなり発生又は面積が拡大していたと思う | W21: =IF(ISERROR(MATCH("■",C21:C25,0)),"-",MATCH("■",C21:C25,0)) -> -
C22: □ | D22: ２．発生又は面積が拡大していたと思う
C23: □ | D23: ３．あまり発生又は拡大していないと思う
C24: □ | D24: ４．全く発生していないと思う
C25: □ | D25: ５．わからない
B27: 遊休農地の発生を防止するために実施した活動内容や、遊休農地の解消後の活用状況について、ご記入ください。
B30: 【自由記載】
A33: Ｑ２ | B33: ◆水路・農道等の地域資源を保全管理する人材の確保等、管理体制の強化
B34: 多面的機能支払交付金に取り組むことにより、水路や農道の草刈りや泥上げなどの共同活動への参加者は増加しましたか。 該当するもの１つにチェック“■”を付けてください。
C38: □ | D38: １．取り組む前と比較してかなり増加したと思う | W38: =IF(ISERROR(MATCH("■",C38:C42,0)),"-",MATCH("■",C38:C42,0)) -> -
C39: □ | D39: ２．取り組む前と比較して増加したと思う
C40: □ | D40: ３．取り組む前と比較して減少したと思う
C41: □ | D41: ４．全く変わらないと思う
C42: □ | D42: ５．わからない
A44: Ｑ３ | B44: ◆鳥獣被害の抑制・防止
B45: ※鳥獣害防止対策にかかる活動を行っている組織のみ回答してください
B46: ※鳥獣害防止対策にかかる活動を行っていない場合はQ37を御回答ください。
B47: もし、多面的機能支払交付金に取り組んでいなければ、農地や作物への鳥獣被害はどうなっていたと思いますか。 該当するもの１つにチェック“■”を付けてください。
C51: □ | D51: １．かなり農地や作物への鳥獣被害は拡大していたと思う | W51: =IF(ISERROR(MATCH("■",C51:C55,0)),"-",MATCH("■",C51:C55,0)) -> -
C52: □ | D52: ２．農地や作物への鳥獣被害は拡大していたと思う
C53: □ | D53: ３．農地や作物への鳥獣被害は拡大していなかったと思う
C54: □ | D54: ４．全く変わらないと思う
C55: □ | D55: ５．わからない
A57: Ｑ4 | B57: ◆営農の作業効率・安全性の確保
B58: 本交付金の活用による地域の共同活動の実施により、営農時の作業効率向上や安全性の確保への効果が現れていると思いますか。 該当するもの１つにチェック“■”を付けてください。
C62: □ | D62: １．かなり効果があったと思う | W62: =IF(ISERROR(MATCH("■",C62:C66,0)),"-",MATCH("■",C62:C66,0)) -> -
C63: □ | D63: ２．効果があったと思う
C64: □ | D64: ３．効果はなかったと思う
C65: □ | D65: ４．全く変わらないと思う
C66: □ | D66: ５．わからない
A68: ２ 農業用施設の機能増進
A70: Ｑ５ | B70: ◆水路・農道等の地域資源の適切な保全
B71: もし、多面的機能支払交付金に取り組んでいなければ、農業用施設（水路、農道、ため池など）の管理や施設の機能はどうなっていたと思いますか。 該当するもの１つにチェック“■”を付けてください。
C75: □ | D75: １．管理の粗放化、施設の機能低下がかなり進行していると思う | W75: =IF(ISERROR(MATCH("■",C75:C79,0)),"-",MATCH("■",C75:C79,0)) -> -
C76: □ | D76: ２．管理の粗放化、施設の機能低下が進行していると思う
C77: □ | D77: ３．管理の粗放化、施設の機能低下はあまり進行していないと思う
C78: □ | D78: ４．全く変わらないと思う
C79: □ | D79: ５．わからない
A81: Ｑ６ | B81: ◆施設の破損、故障や溢水等による農業生産や周辺地域への被害抑制
B82: ※資源向上支払（長寿命化）の活動を行っている組織のみ回答してください。
B83: 資源向上支払（長寿命化）に取り組まなかった場合、10年後の農業用排水路等はどのようになると思いますか。 該当するもの１つにチェック“■”を付けてください。
C87: □ | D87: １．破損、老朽化、水が溢れる等による農業生産や周辺地域への 被害の発生が想定され、何らかの対処が必要であると思う | W87: =IF(ISERROR(MATCH("■",C87:C90,0)),"-",MATCH("■",C87:C90,0)) -> -
C88: □ | D88: ２．破損、老朽化等により農業生産への影響が出ると思う
C89: □ | D89: ３．破損、老朽化等は問題とはならないと思う
C90: □ | D90: ４．その他
D91: その他 の内容
A93: Ｑ７ | B93: ◆農業用施設の知識や補修技術の向上
B94: ※資源向上支払（共同）及び（長寿命化）の活動を行っている組織は回答してください。
B95: 資源向上支払（共同活動）、資源向上支払（長寿命化）への取組により、補修技術の向上が図られていると思いますか。 該当するもの１つにチェック“■”を付けてください。
C99: □ | D99: １．かなり高まっていると思う | W99: =IF(ISERROR(MATCH("■",C99:C103,0)),"-",MATCH("■",C99:C103,0)) -> -
C100: □ | D100: ２．高まっていると思う
C101: □ | D101: ３．あまり高まっているとは思わない
C102: □ | D102: ４．全く高まっていないと思う
C103: □ | D103: ５．わからない
A105: Ｑ８ | B105: ◆定期的な機能診断、補修等の実施や直営施工の導入等による施設の維持管理
B106: 費の低減
B107: ※資源向上支払（共同）及び（長寿命化）の活動を行っている組織は回答してください。
B108: 資源向上支払（共同活動）、資源向上支払（長寿命化）への取組により、定期的な機能診断、補修等の実施や、直営施工を導入したこと等により、施設の維持管理費が低減されていると思いますか。 該当するもの１つにチェック“■”を付けてください。
C113: □ | D113: １．かなり低減されていると思う | W113: =IF(ISERROR(MATCH("■",C113:C117,0)),"-",MATCH("■",C113:C117,0)) -> -
C114: □ | D114: ２．低減されていると思う
C115: □ | D115: ３．高くなっていると思う
C116: □ | D116: ４．かなり高くなっていると思う
C117: □ | D117: ５．わからない
A119: ３ 農村環境の保全・向上
A121: Ｑ９ | B121: ◆地域の環境の保全・向上（生態系）
B122: 活動を通じて、生息する在来生物の種類や生息数が増えたり、外来生物の生息範囲や生息数が減るなど、生態系保全の効果が出てきたと思いますか。 該当するもの１つにチェック“■”を付けてください。
C126: □ | D126: １．かなり効果が出てきたと思う | W126: =IF(ISERROR(MATCH("■",C126:C130,0)),"-",MATCH("■",C126:C130,0)) -> -
C127: □ | D127: ２．効果が出てきたと思う
C128: □ | D128: ３．あまり効果が出てきたとは思わない
C129: □ | D129: ４．全く効果が出ていないと思う
C130: □ | D130: ５．わからない
A132: Ｑ10 | B132: ◆地域の環境の保全・向上（水質）
B133: 活動を通じて、地域の農業用水などの水の濁りや異臭が減少するなど、水質保全の効果が出てきたと思いますか。 該当するもの１つにチェック“■”を付けてください。
C137: □ | D137: １．かなり効果が出てきたと思う | W137: =IF(ISERROR(MATCH("■",C137:C141,0)),"-",MATCH("■",C137:C141,0)) -> -
C138: □ | D138: ２．効果が出てきたと思う
C139: □ | D139: ３．あまり効果が出てきたとは思わない
C140: □ | D140: ４．全く効果が出ていないと思う
C141: □ | D141: ５．わからない
A143: Ｑ11 | B143: ◆地域の環境の保全・向上（景観）
B144: 活動を通じて、景観形成のための植栽面積が増えたり、雑草の繁茂や不法投棄が減るなど、景観形成・生活環境保全の効果が出てきたと思いますか。 該当するもの１つにチェック“■”を付けてください。
C148: □ | D148: １．かなり効果が出てきたと思う | W148: =IF(ISERROR(MATCH("■",C148:C152,0)),"-",MATCH("■",C148:C152,0)) -> -
C149: □ | D149: ２．効果が出てきたと思う
C150: □ | D150: ３．あまり効果が出てきたとは思わない
C151: □ | D151: ４．全く効果が出ていないと思う
C152: □ | D152: ５．わからない
A154: Ｑ12 | B154: ◆地域住民の地域資源や農村環境の保全への関心の向上
B155: 活動を通じて、参加者は、生態系保全に対する関心や理解、取組の協力意識が高まっていると思いますか。 該当するもの１つにチェック“■”を付けてください。
C159: □ | D159: １．かなり高まっていると思う | W159: =IF(ISERROR(MATCH("■",C159:C163,0)),"-",MATCH("■",C159:C163,0)) -> -
C160: □ | D160: ２．高まっていると思う
...

Sheet 集計用
A2: 都道府 県名 | B2: 市町村名 | C2: 活動組織名 | D2: 活動組織
D3: Ｑ１ | F3: Ｑ２ | G3: Ｑ３ | H3: Ｑ４ | I3: Ｑ５ | J3: Ｑ６ | L3: Ｑ７ | M3: Ｑ８ | N3: Ｑ９ | O3: Ｑ10 | P3: Ｑ11 | Q3: Ｑ12 | T3: Ｑ13 | U3: Ｑ14 | V3: Ｑ15 | X3: Ｑ16 | Y3: Ｑ17 | AA3: Ｑ18 | AB3: Ｑ19 | AC3: Ｑ20 | AD3: Ｑ21 | AE3: Ｑ22 | AF3: Ｑ23 | AG3: Ｑ24 | AH3: Ｑ25 | AI3: Ｑ26 | AJ3: Ｑ27 | AK3: Ｑ28 | AM3: Ｑ29 | AN3: Q30 | AP3: Q31 | AR3: Q32 | AS3: Q33 | AU3: Q34 | AW3: Q35 | AX3: Q36 | BA3: Q37
D4: （１） | E4: （２） | J4: （１） | K4: （２） | Q4: 生態系 保全 | R4: 水質 保全 | S4: 景観形成 ・生活環境保全 | V4: （１） | W4: （２） | Y4: 話し合いや活動機会の増加による地域コミュニティの活性化 | AK4: 非農業者の地域農業等への理解醸成 | AN4: 女性活躍の推進 | AP4: 都市農村交流の促進 | AS4: 地域における水田貯留機能等 | AU4: 学校教育等との連携について | AX4: 地域計画との連携について | BA4: 鳥獣害防止対策実施に向けた課題について
D7: 遊休農地の発生防止 | E7: 遊休農地の発生を防止するために実施した活動内容等 | F7: 水路・農道等の地域資源の適切な保全 | G7: 鳥獣被害の抑制・防止 | H7: 営農の作業効率・安全性の確保 | I7: 水路・農道等の地域資源の適切な保全 | J7: 施設の破損、故障や溢水等による農業生産性や周辺ちいきへの被害抑制 | K7: その他の内容 | L7: 農業用施設の知識や補修技術の向上 | M7: 定期的な機能診断、補修等の実施や直営施工の導入等による施設の維持管理 | N7: 地域の環境の保全・向上 (生態系) | O7: 地域の環境の保全・向上 (水質) | P7: 地域の環境の保全・向上 (景観) | Q7: 地域住民の地域資源や 農村環境の保全への向上 | T7: 環境負荷軽減の取組に係る効果発現状況 | U7: 環境負荷軽減の取組による生物多様性保全効果 | V7: 施設の破損、故障や溢水等による農業生産性や周辺ちいきへの被害抑制 | W7: その他の内容 | X7: 災害後の点検や復旧の迅速化 | Y7: 開催回数 | Z7: 参加者数 | AA7: 各種団体や非農業者等の参画の促進 | AB7: 農村文化の伝承を通じた農村コミュニティの強化 | AC7: 地域住民の防災・減災に対する意識の向上、体制の強化 | AD7: 外部団体とのマッチングによる「交流人口の増加・観光の促進」 | AE7: 事務局の強化、事務の簡素化、デジタル技術の活用等による事務負担軽減効果 | AF7: 非農業者等の共同活動への参加による担い手農業者の負担軽減 | AG7: 担い手農業者の育成・確保 | AH7: 農地の利用集積の推進 | AI7: 農産物の高付加価値伽６次産業化の推進 | AJ7: 農業者の営農意欲の維持、向上 | AK7: 農業者 | AL7: 非農業者 | AM7: 地域づくりのリーダー育成 | AN7: 活動組織の役員の有無 | AO7: 女性参加者の割合 | AP7: 地域住民以外の方が参加する活動を実施しているか。 | AQ7: 地域住民以外の方が来訪するような景観形成活動を実施しているか | AR7: 活動組織のＮＰＯ法人化 | AS7: 下流域・上流域で情報交換会等に取り組んでいるか | AT7: 自由記載欄 | AU7: 啓発・普及活動で、学校教育等と連携して活動に取り組んでいるか。 | AV7: 自由記載欄 | AW7: 再生可能エネルギー（小水力発電等）の導入・適正管理に取り組んでいるか。 | AX7: 地域計画作成時の連携しているか | AY7: 地域計画に係る打ち合わせに参加しているか | AZ7: 地域資源保全管理構想に準ずるが含まれているか。 | BA7: 鳥獣害防止対策実施しない理由は何か | BB7: その他の内容
A8: =調査票!D7 -> 千葉県 | B8: =調査票!D9 -> ○○市町村 | C8: =調査票!D11 -> ○○活動組織 | D8: =調査票!W21 -> - | E8: =調査票!C31 -> 0 | F8: =調査票!W38 -> - | G8: =調査票!W51 -> - | H8: =調査票!W62 -> - | I8: =調査票!W75 -> - | J8: =調査票!W87 -> - | K8: =調査票!F91 -> 0 | L8: =調査票!W99 -> - | M8: =調査票!W113 -> - | N8: =調査票!W126 -> - | O8: =調査票!W137 -> - | P8: =調査票!W148 -> - | Q8: =調査票!W159 -> - | R8: =調査票!W169 -> - | S8: =調査票!W179 -> - | T8: =調査票!W190 -> - | U8: =調査票!W201 -> - | V8: =調査票!W215 -> - | W8: =調査票!F219 -> 0 | X8: =調査票!W227 -> - | Y8: =調査票!W241 -> - | Z8: =調査票!W248 -> - | AA8: =調査票!W258 -> - | AB8: =調査票!W270 -> - | AC8: =調査票!W281 -> - | AD8: =調査票!W293 -> - | AE8: =調査票!W304 -> - | AF8: =調査票!W315 -> - | AG8: =調査票!W326 -> - | AH8: =調査票!W336 -> - | AI8: =調査票!W348 -> - | AJ8: =調査票!W359 -> - | AK8: =調査票!W371 -> - | AL8: =調査票!W378 -> - | AM8: =調査票!W389 -> - | AN8: =調査票!W401 -> - | AO8: =調査票!C408 -> 0 | AP8: =調査票!W415 -> - | AQ8: =調査票!W422 -> - | AR8: =調査票!W430 -> - | AS8: =調査票!W438 -> - | AT8: =調査票!C441 -> 0 | AU8: =調査票!W448 -> - | AV8: =調査票!C451 -> 0 | AW8: =調査票!W458 -> - | AX8: =調査票!W468 -> - | AY8: =調査票!W475 -> - | AZ8: =調査票!W482 -> - | BA8: =調査票!W491 -> - | BB8: =調査票!F496 -> 0
